{"text_format":"3","workbook":"xlsx","n_sheets":1,"sheets":["附件4"],"not_rendered":{"external_links":1},"read":"whole","date_system":"1900"}

{"sheet":"附件4","index":0,"n_rows":158,"n_cols":20,"rows_kept":158,"merged":[[0,0,0,1],[1,0,1,19]]}
["附件4"]
["各市州相关医疗机构和在长部省属医疗机构参加新疆二十六省（区、兵团）联盟药品集中带量采购中选品种约定采购量汇总表（片/粒/支/瓶）"]
["序号","药品编码","药品名称","规格","企业名称","部省属","长沙市","株洲市","湘潭市","常德市","张家界市","益阳市","衡阳市","邵阳市","岳阳市","郴州市","永州市","怀化市","娄底市","湘西土家族苗族自治州"]
[1,"XG01AAZ028D003010100176","制霉素阴道栓",{"$f":"VLOOKUP(B4,[1]Sheet2!$D:$G,4,0)","v":"20万IU"},"北京双吉制药有限公司",0,0,42,0,0,0,0,0,148,0,105,0,21,0,0]
[2,"XG01AAZ028D003010101730","制霉素阴道栓",{"$f":"VLOOKUP(B5,[1]Sheet2!$D:$G,4,0)","v":"20万单位"},"江苏远恒药业有限公司",0,0,0,0,0,0,735,0,25,107,0,539,148,0,21]
[3,"XG01AAZ028D003010301730","制霉素阴道栓",{"$f":"VLOOKUP(B6,[1]Sheet2!$D:$G,4,0)","v":"20万单位"},"江苏远恒药业有限公司",0,2176,0,0,26,0,0,5351,648,0,1098,98,1421,147,4518]
[4,"XG01AAZ028D003010304623","制霉素阴道栓",{"$f":"VLOOKUP(B7,[1]Sheet2!$D:$G,4,0)","v":"20万单位"},"浙江迪耳药业有限公司",0,2176,91,0,26,0,735,5351,1066,107,1203,637,1590,147,4539]
[5,"XG01ACL224A008010100011","氯喹那多-普罗雌烯阴道片",{"$f":"VLOOKUP(B8,[1]Sheet2!$D:$G,4,0)","v":"氯喹那多200mg,普罗雌烯10mg"},"北京斯利安药业有限公司",0,42,0,0,56,0,242,70,42,0,23,0,756,977,21]
[6,"XG01ACL224A008010100085","氯喹那多-普罗雌烯阴道片",{"$f":"VLOOKUP(B9,[1]Sheet2!$D:$G,4,0)","v":"每片含氯喹那多200mg、普罗雌烯10mg"},"北京金城泰尔制药有限公司",0,42,0,0,42,0,347,0,42,0,4200,0,756,977,6]
[7,"XG01ACL224A008010100085","氯喹那多－普罗雌烯阴道片",{"$f":"VLOOKUP(B10,[1]Sheet2!$D:$G,4,0)","v":"每片含氯喹那多200mg、普罗雌烯10mg"},"北京金城泰尔制药有限公司",26598,0,0,1680,34,0,42,0,0,0,588,0,1218,0,0]
[8,"XG01ACL224A008010102281","氯喹那多/普罗雌烯阴道片",{"$f":"VLOOKUP(B11,[1]Sheet2!$D:$G,4,0)","v":"氯喹那多0.2g,普罗雌烯10mg"},"亚宝药业四川制药有限公司",0,1008,0,0,0,0,0,0,210,1815,840,0,356,0,0]
[9,"XG01ACL224A008020100085","氯喹那多-普罗雌烯阴道片",{"$f":"VLOOKUP(B12,[1]Sheet2!$D:$G,4,0)","v":"每片含氯喹那多200mg、普罗雌烯10mg"},"北京金城泰尔制药有限公司",0,210,126,591,25,0,0,70,0,8,23,0,0,0,3]
[10,"XG01ACL224A008020100085","氯喹那多－普罗雌烯阴道片",{"$f":"VLOOKUP(B13,[1]Sheet2!$D:$G,4,0)","v":"每片含氯喹那多200mg、普罗雌烯10mg"},"北京金城泰尔制药有限公司",0,6767,0,0,42,0,1865,497,0,0,385,0,2163,0,0]
[11,"XG01ACL224A008020400085","氯喹那多-普罗雌烯阴道片",{"$f":"VLOOKUP(B14,[1]Sheet2!$D:$G,4,0)","v":"每片含氯喹那多200mg、普罗雌烯10mg"},"北京金城泰尔制药有限公司",0,0,0,0,0,0,0,0,0,0,0,0,0,0,12]
[12,"XG01AFA222D003010201770","奥硝唑阴道栓",{"$f":"VLOOKUP(B15,[1]Sheet2!$D:$G,4,0)","v":"0.5g"},"药大制药有限公司",22582,43593,20812,5587,12338,3710,28300,3234,10023,21897,31856,7462,8408,5292,0]
[13,"XG01AFA222D003010204920","奥硝唑阴道栓",{"$f":"VLOOKUP(B16,[1]Sheet2!$D:$G,4,0)","v":"0.5g"},"湖南方盛制药股份有限公司",22582,42562,20812,4754,12338,3710,28300,3234,9970,21897,17268,7217,8408,4312,0]
[14,"XG01AFA222D003010302461","奥硝唑阴道栓",{"$f":"VLOOKUP(B17,[1]Sheet2!$D:$G,4,0)","v":"0.5g"},"华东医药(西安)博华制药有限公司",0,863,0,833,0,0,0,0,0,0,14504,0,0,980,0]
[15,"XG01AFA222D003010302461","奥硝唑阴道栓",{"$f":"VLOOKUP(B18,[1]Sheet2!$D:$G,4,0)","v":"0.5g"},"华东医药（西安）博华制药有限公司",0,0,0,0,0,0,0,0,53,0,0,0,0,0,0]
[16,"XG01AFF322D003010102816","复方甲硝唑阴道栓",{"$f":"VLOOKUP(B19,[1]Sheet2!$D:$G,4,0)","v":"3g"},"药都制药集团股份有限公司",0,0,0,0,0,0,280,84,49,0,0,0,0,0,0]
[17,"XG01AFF322D003010202628","复方甲硝唑阴道栓",{"$f":"VLOOKUP(B20,[1]Sheet2!$D:$G,4,0)","v":"3g"},"河北金牛药业科技有限公司",0,0,140,0,0,0,1120,0,196,0,42,0,0,0,0]
[18,"XG01AFF322D003010402628","复方甲硝唑阴道栓",{"$f":"VLOOKUP(B21,[1]Sheet2!$D:$G,4,0)","v":"3g"},"河北金牛药业科技有限公司",0,280,0,0,0,0,0,0,0,0,0,5880,0,0,0]
[19,"XG01AFJ070A009010101792","甲硝唑阴道泡腾片",{"$f":"VLOOKUP(B22,[1]Sheet2!$D:$G,4,0)","v":"0.2g"},"湖北东信药业有限公司",1694,10286,11002,1329,15004,0,10202,12291,22779,8817,12421,1411,11763,4348,0]
[20,"XG01AFJ070A009010103357","甲硝唑阴道泡腾片",{"$f":"VLOOKUP(B23,[1]Sheet2!$D:$G,4,0)","v":"0.2g"},"吉林敖东延边药业股份有限公司",0,0,0,20,5,0,112,0,35,18,14,50,5,14,0]
[21,"XG01AFJ070A009010103937","甲硝唑阴道泡腾片",{"$f":"VLOOKUP(B24,[1]Sheet2!$D:$G,4,0)","v":"0.2g"},"安丘市鲁安药业有限责任公司",0,0,0,10,5,0,0,0,0,0,12,0,5,0,0]
[22,"XG01AFJ070A009010203937","甲硝唑阴道泡腾片",{"$f":"VLOOKUP(B25,[1]Sheet2!$D:$G,4,0)","v":"0.2g"},"安丘市鲁安药业有限责任公司",0,0,0,10,13,0,0,0,58,26,4,0,10,0,0]
[23,"XG01AFJ070A009010204945","甲硝唑阴道泡腾片",{"$f":"VLOOKUP(B26,[1]Sheet2!$D:$G,4,0)","v":"0.2g"},"宸寰医药集团有限公司",423,12,157,10,99,20,0,198,61,83,17,0,794,58,0]
[24,"XG01AFJ070A009010503586","甲硝唑阴道泡腾片",{"$f":"VLOOKUP(B27,[1]Sheet2!$D:$G,4,0)","v":"0.2g"},"吉林京辉药业股份有限公司",0,0,0,14,35,0,0,0,0,0,19,0,39,17,0]
[25,"XG01AFJ070D003010100176","甲硝唑栓",{"$f":"VLOOKUP(B28,[1]Sheet2!$D:$G,4,0)","v":"0.5g"},"北京双吉制药有限公司",0,114121,41002,14622,33878,4466,17649,21660,13868,81188,21610,5107,37089,31926,126]
[26,"XG01AFJ070D003010100814","甲硝唑栓",{"$f":"VLOOKUP(B29,[1]Sheet2!$D:$G,4,0)","v":"0.5g"},"国药集团工业有限公司",0,0,0,0,0,0,0,210,350,70,35,0,0,0,140]
[27,"XG01AFJ070D003010101792","甲硝唑栓",{"$f":"VLOOKUP(B30,[1]Sheet2!$D:$G,4,0)","v":"0.5g"},"湖北东信药业有限公司",1148,658,280,46,331,5600,571,0,70,685,2251,7445,2646,0,0]
[28,"XG01AFJ070D003010101853","甲硝唑栓",{"$f":"VLOOKUP(B31,[1]Sheet2!$D:$G,4,0)","v":"0.5g"},"慈象药业湖北有限公司",0,0,0,0,0,0,0,6,0,0,0,0,0,0,0]
[29,"XG01AFJ070D003010101853","甲硝唑栓",{"$f":"VLOOKUP(B32,[1]Sheet2!$D:$G,4,0)","v":"0.5g"},"湖北潜江制药股份有限公司",0,0,0,2,455,0,56,1,941,0,0,0,0,0,0]
[30,"XG01AFJ070D003010101954","甲硝唑栓",{"$f":"VLOOKUP(B33,[1]Sheet2!$D:$G,4,0)","v":"0.5g"},"马应龙药业集团股份有限公司",0,108627,15992,16334,68753,15837,18347,7917,8366,93517,25530,36477,11232,7963,9898]
[31,"XG01AFJ070D003010103767","甲硝唑栓",{"$f":"VLOOKUP(B34,[1]Sheet2!$D:$G,4,0)","v":"0.5g"},"黑龙江省济仁药业有限公司",4480,3570,980,6,176,650,4645,9009,2835,24500,1127,11519,4277,8400,0]
[32,"XG01AFJ070D003010104217","甲硝唑栓",{"$f":"VLOOKUP(B35,[1]Sheet2!$D:$G,4,0)","v":"0.5g"},"威海华新药业集团有限公司",0,0,0,0,0,0,0,0,0,0,0,123,0,0,0]
[33,"XG01AFJ070D003010104350","甲硝唑栓",{"$f":"VLOOKUP(B36,[1]Sheet2!$D:$G,4,0)","v":"0.5g"},"安徽天洋药业有限公司",5628,12485,980,1050,11971,9716,8348,16225,4053,43431,8925,25613,16688,11494,0]
[34,"XG01AFJ070D003010104920","甲硝唑栓",{"$f":"VLOOKUP(B37,[1]Sheet2!$D:$G,4,0)","v":"0.5g"},"湖南方盛制药股份有限公司",0,0,0,0,0,280,1680,112,280,0,0,0,0,0,644]
[35,"XG01AFJ070D003010104920","甲硝唑栓",{"$f":"VLOOKUP(B38,[1]Sheet2!$D:$G,4,0)","v":"0.5g"},"明顺医疗投资（深圳）有限公司",0,0,0,0,8,0,14,0,0,0,0,192,14,0,7]
[36,"XG01AFJ070D003010205095","甲硝唑栓",{"$f":"VLOOKUP(B39,[1]Sheet2!$D:$G,4,0)","v":"0.5g"},"黑龙江嘉悦泽生物制药有限公司",0,0,0,0,10,2,0,0,0,35,21,0,0,0,0]
[37,"XG01AFJ070D003010304920","甲硝唑栓",{"$f":"VLOOKUP(B40,[1]Sheet2!$D:$G,4,0)","v":"0.5g"},"明顺医疗投资（深圳）有限公司",0,0,0,0,10,0,0,0,0,0,0,0,0,0,0]
[38,"XG01AFJ070D003010305095","甲硝唑栓",{"$f":"VLOOKUP(B41,[1]Sheet2!$D:$G,4,0)","v":"0.5g"},"广西十万山制药有限公司",0,0,0,6,0,0,0,0,0,0,0,0,0,0,0]
[39,"XG01AFJ070D003010305095","甲硝唑栓",{"$f":"VLOOKUP(B42,[1]Sheet2!$D:$G,4,0)","v":"0.5g"},"黑龙江嘉悦泽生物制药有限公司",0,0,0,0,17,0,3,0,0,6,0,0,0,0,0]
[40,"XG01AFJ070D003020104920","甲硝唑栓",{"$f":"VLOOKUP(B43,[1]Sheet2!$D:$G,4,0)","v":"1.0g"},"明顺医疗投资（深圳）有限公司",0,0,0,0,3,0,3,0,0,2,0,0,0,0,0]
[41,"XG01AFJ070D003020204920","甲硝唑栓",{"$f":"VLOOKUP(B44,[1]Sheet2!$D:$G,4,0)","v":"1.0g"},"明顺医疗投资（深圳）有限公司",0,0,0,0,3,0,0,0,0,1,0,0,7,0,0]
[42,"XG01AFK079A008010101323","克霉唑阴道片",{"$f":"VLOOKUP(B45,[1]Sheet2!$D:$G,4,0)","v":"0.5g"},"沈阳双鼎制药有限公司",0,0,0,0,0,0,0,0,18,0,0,0,0,0,0]
[43,"XG01AFK079A008010101604","克霉唑阴道片",{"$f":"VLOOKUP(B46,[1]Sheet2!$D:$G,4,0)","v":"0.5g"},"南京亿华药业有限公司",0,3896,0,2783,636,0,580,1134,185,251,1236,663,329,0,35]
[44,"XG01AFK079A008010103943","克霉唑阴道片",{"$f":"VLOOKUP(B47,[1]Sheet2!$D:$G,4,0)","v":"0.5g"},"迪沙药业集团有限公司",11228,2406,1330,97,3347,11,756,1589,576,1222,1360,1898,522,590,0]
[45,"XG01AFK079A008010201604","克霉唑阴道片",{"$f":"VLOOKUP(B48,[1]Sheet2!$D:$G,4,0)","v":"0.5g"},"南京亿华药业有限公司",0,716,0,0,184,0,391,225,371,413,229,1680,664,45,0]
[46,"XG01AFK079A008010203943","克霉唑阴道片",{"$f":"VLOOKUP(B49,[1]Sheet2!$D:$G,4,0)","v":"0.5g"},"迪沙药业集团有限公司",4088,25495,5831,1739,11023,7093,8984,5604,4245,21553,8274,11675,13933,2764,14]
[47,"XG01AFK079A008010301604","克霉唑阴道片",{"$f":"VLOOKUP(B50,[1]Sheet2!$D:$G,4,0)","v":"0.5g"},"南京亿华药业有限公司",0,7076,1710,344,2561,9,1260,2721,2137,6401,5825,1755,2454,5940,0]
[48,"XG01AFK079A008010304929","克霉唑阴道片",{"$f":"VLOOKUP(B51,[1]Sheet2!$D:$G,4,0)","v":"0.5g"},"湖南华纳大药厂股份有限公司",984,32102,8773,4858,15277,513,11971,8450,6584,29777,13900,13188,12746,7120,0]
[49,"XG01AFK079A008010304942","克霉唑阴道片",{"$f":"VLOOKUP(B52,[1]Sheet2!$D:$G,4,0)","v":"0.5g"},"湖南九典制药股份有限公司",0,0,28,0,0,0,0,0,0,0,0,0,0,0,35]
[50,"XG01AFK079D003010100373","克霉唑栓",{"$f":"VLOOKUP(B53,[1]Sheet2!$D:$G,4,0)","v":"0.15g"},"广州白云山医药集团股份有限公司白云山何济公制药厂",0,7567,371,0,238,0,379,525,1372,386,175,0,2171,0,0]
[51,"XG01AFK079D003010101292","克霉唑栓",{"$f":"VLOOKUP(B54,[1]Sheet2!$D:$G,4,0)","v":"0.15g"},"沈阳红旗制药有限公司",0,0,0,0,11,0,0,0,0,0,0,0,0,0,0]
[52,"XG01AFK079D003010101730","克霉唑栓",{"$f":"VLOOKUP(B55,[1]Sheet2!$D:$G,4,0)","v":"0.15g"},"江苏远恒药业有限公司",0,1449,0,112,433,0,0,0,245,147,476,273,386,0,42]
[53,"XG01AFK079D003010101792","克霉唑栓",{"$f":"VLOOKUP(B56,[1]Sheet2!$D:$G,4,0)","v":"0.15g"},"湖北东信药业有限公司",0,4039,728,0,49,0,256,665,280,120,56,112,656,0,15820]
[54,"XG01AFK079D003010101954","克霉唑栓",{"$f":"VLOOKUP(B57,[1]Sheet2!$D:$G,4,0)","v":"0.15g"},"马应龙药业集团股份有限公司",0,1645,168,266,21,163,39,0,0,288,175,50,0,0,0]
[55,"XG01AFK079D003010104217","克霉唑栓",{"$f":"VLOOKUP(B58,[1]Sheet2!$D:$G,4,0)","v":"0.15g"},"威海华新药业集团有限公司",0,0,0,0,10,0,84,0,0,0,98,250,25,0,3]
[56,"XG01AFK079D003010104350","克霉唑栓",{"$f":"VLOOKUP(B59,[1]Sheet2!$D:$G,4,0)","v":"0.15g"},"安徽天洋药业有限公司",0,2751,105,42,10,6,0,0,1466,178,105,0,1702,0,168]
[57,"XG01AFK079D003010204217","克霉唑栓",{"$f":"VLOOKUP(B60,[1]Sheet2!$D:$G,4,0)","v":"0.15g"},"威海华新药业集团有限公司",0,0,0,0,10,0,0,0,266,10,0,0,4,0,79]
[58,"XG01AFK079D003010205095","克霉唑栓",{"$f":"VLOOKUP(B61,[1]Sheet2!$D:$G,4,0)","v":"0.15g"},"汕头经济特区明治医药有限公司",0,1428,0,0,10,0,0,0,0,0,0,0,0,0,0]
[59,"XG01AFM085D003010101556","硝酸咪康唑栓",{"$f":"VLOOKUP(B62,[1]Sheet2!$D:$G,4,0)","v":"0.2g"},"南京臣功制药股份有限公司",39,1433,3337,1754,1502,49,1222,2857,7352,1889,2863,12320,1817,2072,459]
[60,"XG01AFM085D003010101730","硝酸咪康唑栓",{"$f":"VLOOKUP(B63,[1]Sheet2!$D:$G,4,0)","v":"0.2g"},"江苏远恒药业有限公司",0,4723,25,25,661,0,519,2017,177,346,2737,1546,2616,223,465]
[61,"XG01AFM085D003010104920","硝酸咪康唑栓",{"$f":"VLOOKUP(B64,[1]Sheet2!$D:$G,4,0)","v":"0.2g"},"明顺医疗投资（深圳）有限公司",0,0,0,0,0,0,0,0,0,0,11,0,0,0,0]
[62,"XG01AFM085D003010302927","硝酸咪康唑栓",{"$f":"VLOOKUP(B65,[1]Sheet2!$D:$G,4,0)","v":"0.2g"},"山西同达药业有限公司",157,4653,4850,1039,4088,245,773,2361,4440,1815,2280,1838,2958,2111,6]
[63,"XG01AFM085D003020101792","硝酸咪康唑栓",{"$f":"VLOOKUP(B66,[1]Sheet2!$D:$G,4,0)","v":"0.4g"},"湖北东信药业有限公司",0,0,0,0,0,0,0,0,0,0,0,13,11,0,0]
[64,"XG01AFM085D003020304920","硝酸咪康唑栓",{"$f":"VLOOKUP(B67,[1]Sheet2!$D:$G,4,0)","v":"0.2g"},"明顺医疗投资（深圳）有限公司",0,0,0,0,3,0,315,0,0,0,0,0,18,0,0]
[65,"XG01AFM085E009010104217","硝酸咪康唑阴道软胶囊",{"$f":"VLOOKUP(B68,[1]Sheet2!$D:$G,4,0)","v":"0.4g"},"威海华新药业集团有限公司",0,0,59,0,224,0,0,0,122,39,22,0,11,5,0]
[66,"XG01AFM085E009010201503","硝酸咪康唑阴道软胶囊",{"$f":"VLOOKUP(B69,[1]Sheet2!$D:$G,4,0)","v":"0.4g"},"山东新华制药股份有限公司",0,0,0,0,0,0,0,0,0,21,21,0,0,0,0]
[67,"XG01AFM085E009010205402","硝酸咪康唑阴道软胶囊",{"$f":"VLOOKUP(B70,[1]Sheet2!$D:$G,4,0)","v":"0.4g"},"四川恩威制药有限公司",0,2574,126,0,52,16,12,0,127,369,84,202,32,77,318]
[68,"XG01AFM085E009010304217","硝酸咪康唑阴道软胶囊",{"$f":"VLOOKUP(B71,[1]Sheet2!$D:$G,4,0)","v":"0.4g"},"威海华新药业集团有限公司",0,12267,34,76,3977,0,0,3542,1179,4225,224,9198,663,1976,3212]
[69,"XG01AFM085E009010404217","硝酸咪康唑阴道软胶囊",{"$f":"VLOOKUP(B72,[1]Sheet2!$D:$G,4,0)","v":"0.4g"},"威海华新药业集团有限公司",0,18247,1118,8,4460,2894,1324,4561,6678,8231,7447,2432,646,2095,252]
[70,"XG01AFS146D003010101192","双唑泰栓",{"$f":"VLOOKUP(B73,[1]Sheet2!$D:$G,4,0)","v":"复方"},"锦州九泰药业有限责任公司",0,0,221,0,153,0,98,991,748,567,515,78,2443,0,0]
[71,"XG01AFS146D003010101193","双唑泰栓",{"$f":"VLOOKUP(B74,[1]Sheet2!$D:$G,4,0)","v":"复方"},"锦州本天药业有限公司",0,0,0,0,74,0,0,147,0,0,0,0,0,0,0]
[72,"XG01AFS146D003010101730","双唑泰栓",{"$f":"VLOOKUP(B75,[1]Sheet2!$D:$G,4,0)","v":"复方"},"江苏远恒药业有限公司",0,490,0,0,535,0,1426,2662,0,150,490,0,567,0,0]
[73,"XG01AFS146D003010101792","双唑泰栓",{"$f":"VLOOKUP(B76,[1]Sheet2!$D:$G,4,0)","v":"复方"},"湖北东信药业有限公司",0,294,711,25,0,0,0,147,0,0,442,0,540,0,0]
[74,"XG01AFS146D003010103576","双唑泰栓",{"$f":"VLOOKUP(B77,[1]Sheet2!$D:$G,4,0)","v":"复方"},"通化万通药业股份有限公司",0,294,0,74,152,0,59,25,98,74,0,100,562,0,0]
[75,"XG01AFS146D003010103649","双唑泰栓",{"$f":"VLOOKUP(B78,[1]Sheet2!$D:$G,4,0)","v":"复方"},"哈尔滨田美药业股份有限公司",0,0,0,210,13,0,252,0,0,0,8680,0,490,0,0]
[76,"XG01AFS146D003010104350","双唑泰栓",{"$f":"VLOOKUP(B79,[1]Sheet2!$D:$G,4,0)","v":"复方"},"安徽天洋药业有限公司",0,11,98,88,1126,0,627,1653,430,2008,466,0,4023,0,0]
[77,"XG01AFS146D003010201730","双唑泰栓",{"$f":"VLOOKUP(B80,[1]Sheet2!$D:$G,4,0)","v":"复方"},"江苏远恒药业有限公司",0,0,300,0,265,0,0,3,0,260,8778,20,203,0,0]
[78,"XG01AFS146D003010201786","双唑泰栓",{"$f":"VLOOKUP(B81,[1]Sheet2!$D:$G,4,0)","v":"复方"},"湖北成田药业有限公司",0,0,0,0,0,0,0,0,0,0,0,30,0,0,0]
[79,"XG01AFS146D003010502927","双唑泰栓",{"$f":"VLOOKUP(B82,[1]Sheet2!$D:$G,4,0)","v":"复方(本品每粒含主要成份甲硝唑200毫克,克霉唑160毫克,醋酸氯己定8毫克)"},"山西同达药业有限公司",0,11,288,249,362,0,330,196,193,1046,197,0,1558,0,0]
[80,"XG01AFT045D003010101730","替硝唑栓",{"$f":"VLOOKUP(B83,[1]Sheet2!$D:$G,4,0)","v":"1g"},"江苏远恒药业有限公司",0,0,0,0,0,0,196,0,35,0,0,0,2520,0,0]
[81,"XG01AXH035D003010200146","环吡酮胺阴道栓",{"$f":"VLOOKUP(B84,[1]Sheet2!$D:$G,4,0)","v":"0.1g"},"北京双吉制药有限公司",11021,0,0,4099,280,0,806,0,0,1400,1411,0,0,336,2100]
[82,"XG01AXH035D003010304703","环吡酮胺阴道栓",{"$f":"VLOOKUP(B85,[1]Sheet2!$D:$G,4,0)","v":"0.1g"},"浙江圣华药业有限公司",806,5628,0,0,0,0,0,4242,0,0,5645,0,0,280,0]
[83,"XG01AXJ156D003010101556","聚甲酚磺醛阴道栓",{"$f":"VLOOKUP(B86,[1]Sheet2!$D:$G,4,0)","v":"90mg"},"南京臣功制药股份有限公司",0,0,0,0,0,0,1260,0,0,28,0,0,36,0,0]
[84,"XG01AXJ156D003010202699","聚甲酚磺醛栓",{"$f":"VLOOKUP(B87,[1]Sheet2!$D:$G,4,0)","v":"90mg"},"华北制药河北华诺有限公司",0,0,0,2296,0,0,511,0,1792,112,3181,0,143,0,0]
[85,"XG01AXJ156D003010205611","聚甲酚磺醛栓",{"$f":"VLOOKUP(B88,[1]Sheet2!$D:$G,4,0)","v":"90mg"},"昆明源瑞制药有限公司",0,0,0,0,0,0,1260,0,0,0,0,0,0,0,0]
[86,"XG01AXJ156S001010104705","聚甲酚磺醛溶液",{"$f":"VLOOKUP(B89,[1]Sheet2!$D:$G,4,0)","v":"25ml*36%(g/g)"},"浙江施比灵药业有限公司",0,0,0,0,0,0,0,0,6,0,0,0,0,0,0]
[87,"XG01AXJ156S001030105611","聚甲酚磺醛溶液",{"$f":"VLOOKUP(B90,[1]Sheet2!$D:$G,4,0)","v":"25ml:9g(36%)"},"昆明源瑞制药有限公司",0,0,0,0,0,0,0,7,0,0,0,0,0,0,0]
[88,"XG01AXJ156S004010102699","聚甲酚磺醛溶液",{"$f":"VLOOKUP(B91,[1]Sheet2!$D:$G,4,0)","v":"36%(g/g),25ml/瓶"},"华北制药河北华诺有限公司",1971,2251,1585,1792,0,0,0,14952,2380,34,931,0,0,0,0]
[89,"XG01AXJ156S004010105001","聚甲酚磺醛溶液",{"$f":"VLOOKUP(B92,[1]Sheet2!$D:$G,4,0)","v":"36%(w/w,每瓶25ml)"},"湖南明瑞制药股份有限公司",0,0,0,0,0,0,0,0,0,0,218,0,0,0,0]
[90,"XG01AXJ156S004020102138","聚甲酚磺醛溶液",{"$f":"VLOOKUP(B93,[1]Sheet2!$D:$G,4,0)","v":"25ml:9g(36%)"},"成都倍特药业股份有限公司",0,563,0,0,0,0,0,0,29,15,0,0,42,0,0]
[91,"XG01AXJ156S004020102699","聚甲酚磺醛溶液",{"$f":"VLOOKUP(B94,[1]Sheet2!$D:$G,4,0)","v":"36%(g/g),50ml/瓶"},"华北制药河北华诺有限公司",0,0,0,0,0,0,0,0,0,28,0,0,0,0,0]
[92,"XG01AXJ159D003010102281","聚维酮碘栓",{"$f":"VLOOKUP(B95,[1]Sheet2!$D:$G,4,0)","v":"0.2g"},"亚宝药业四川制药有限公司",0,0,0,0,0,0,0,0,0,0,70,0,0,0,0]
[93,"XG01AXJ159D003010105722","聚维酮碘栓",{"$f":"VLOOKUP(B96,[1]Sheet2!$D:$G,4,0)","v":"每粒含有效碘0.017-0.023g"},"云南优克制药公司",0,0,0,0,0,0,0,140,0,0,700,0,0,0,0]
[94,"XG01AXT021A009010104046","盐酸特比萘芬阴道泡腾片",{"$f":"VLOOKUP(B97,[1]Sheet2!$D:$G,4,0)","v":"50mg"},"青岛金峰制药有限公司",0,0,0,0,0,0,0,25,0,0,25,0,0,0,0]
[95,"XG01AXT021A009010204021","盐酸特比萘芬阴道泡腾片",{"$f":"VLOOKUP(B98,[1]Sheet2!$D:$G,4,0)","v":"50mg/片(以C21H25N·HCl计)"},"齐鲁制药有限公司",3122,2062,392,0,0,0,0,343,0,0,1960,0,0,0,0]
[96,"XG01AXT021A009010204152","盐酸特比萘芬阴道泡腾片",{"$f":"VLOOKUP(B99,[1]Sheet2!$D:$G,4,0)","v":"50mg"},"瑞阳制药股份有限公司",0,0,0,0,784,118,0,25,0,0,123,0,0,0,0]
[97,"XG02CAL073A001010100353","盐酸利托君片",{"$f":"VLOOKUP(B100,[1]Sheet2!$D:$G,4,0)","v":"10mg"},"广东华南药业集团有限公司",7840,12069,4788,6230,2906,0,210,12866,7644,1932,3384,1960,14263,10710,2569]
[98,"XG02CAL073A001010100353","盐酸利托君片",{"$f":"VLOOKUP(B101,[1]Sheet2!$D:$G,4,0)","v":"10mg"},"广东众生药业股份有限公司",6027,1785,70,0,385,0,0,0,420,830,0,112,350,0,210]
[99,"XG02CAL073A001010179160","盐酸利托君片",{"$f":"VLOOKUP(B102,[1]Sheet2!$D:$G,4,0)","v":"10mg"},"Taiwan Biotech Co.,Ltd.",6027,1785,0,0,385,0,0,0,420,830,0,0,350,0,0]
[100,"XG02CAL073B002010300353","盐酸利托君注射液",{"$f":"VLOOKUP(B103,[1]Sheet2!$D:$G,4,0)","v":"5ml:50mg"},"广东众生药业股份有限公司",731,238,28,0,0,0,7,641,18,112,18,25,174,87,0]
[101,"XG02CAL073B002010300353","盐酸利托君注射液",{"$f":"VLOOKUP(B104,[1]Sheet2!$D:$G,4,0)","v":"5ml:50mg"},"三才石岐制药股份有限公司",10130,2299,1577,616,1111,0,60,683,1051,867,850,639,2245,4025,442]
[102,"XG02CAL073B002020179160","盐酸利托君注射液",{"$f":"VLOOKUP(B105,[1]Sheet2!$D:$G,4,0)","v":"5ml:50mg"},"Taiwan Biotech Co.,Ltd.",731,238,0,0,0,0,0,11,18,6,18,4,0,0,0]
[103,"XG03DAJ063A001010100011","醋酸甲羟孕酮片",{"$f":"VLOOKUP(B106,[1]Sheet2!$D:$G,4,0)","v":"250mg"},"北京斯利安药业有限公司",7224,210,420,0,8764,0,840,339,210,0,0,504,0,0,0]
[104,"XG03DAJ063A001010100401","醋酸甲羟孕酮片",{"$f":"VLOOKUP(B107,[1]Sheet2!$D:$G,4,0)","v":"2mg"},"广州康和药业有限公司",0,0,0,0,0,140,0,0,0,0,48,0,140,0,0]
[105,"XG03DAJ063A001010104735","醋酸甲羟孕酮片",{"$f":"VLOOKUP(B108,[1]Sheet2!$D:$G,4,0)","v":"2mg"},"浙江仙琚制药股份有限公司",172480,134750,65030,53830,50848,3710,59304,20160,4060,55972,112049,90804,39477,28056,700]
[106,"XG03DAJ063A001020100202","醋酸甲羟孕酮片",{"$f":"VLOOKUP(B109,[1]Sheet2!$D:$G,4,0)","v":"2mg"},"北京益民药业有限公司",0,4480,966,1260,7532,0,1400,1260,140,336,10319,1680,3573,2464,0]
[107,"XG03DAJ063E001020101593","醋酸甲羟孕酮胶囊",{"$f":"VLOOKUP(B110,[1]Sheet2!$D:$G,4,0)","v":"0.1g"},"南京臣功制药股份有限公司",5040,1750,0,31528,2800,0,4270,3668,9100,0,0,0,2065,0,0]
[108,"XG03DBJ032A001010100803","醋酸甲地孕酮片",{"$f":"VLOOKUP(B111,[1]Sheet2!$D:$G,4,0)","v":"0.16g"},"上海信谊天平药业有限公司",0,0,0,0,0,0,0,0,0,0,0,5,0,0,0]
[109,"XG03DBJ032A006010102469","醋酸甲地孕酮分散片",{"$f":"VLOOKUP(B112,[1]Sheet2!$D:$G,4,0)","v":"40mg"},"西安远大德天药业股份有限公司",158754,56158,94273,42014,50227,10990,29486,98516,58202,37790,76195,20177,28552,28224,34541]
[110,"XG03DBJ032A006010202469","醋酸甲地孕酮分散片",{"$f":"VLOOKUP(B113,[1]Sheet2!$D:$G,4,0)","v":"40mg"},"西安远大德天药业股份有限公司",0,0,0,0,0,0,0,5645,0,0,0,0,0,0,0]
[111,"XG03DBJ032A006020104028","醋酸甲地孕酮分散片",{"$f":"VLOOKUP(B114,[1]Sheet2!$D:$G,4,0)","v":"40mg"},"青岛国海生物制药有限公司",0,0,0,0,1478,0,131,2486,1505,0,7123,0,672,0,0]
[112,"XG03DBJ032E001010101593","醋酸甲地孕酮胶囊",{"$f":"VLOOKUP(B115,[1]Sheet2!$D:$G,4,0)","v":"0.16g"},"南京臣功制药股份有限公司",0,902,336,0,0,0,0,0,2240,0,0,453,0,0,0]
[113,"XG03DBJ032E002010104725","醋酸甲地孕酮软胶囊",{"$f":"VLOOKUP(B116,[1]Sheet2!$D:$G,4,0)","v":"40mg"},"浙江安宝药业有限公司",45920,0,4534,0,0,0,0,0,0,10500,0,0,0,0,0]
[114,"XG03EBQ136A001010104735","炔雌醇环丙孕酮片",{"$f":"VLOOKUP(B117,[1]Sheet2!$D:$G,4,0)","v":"醋酸环丙孕酮2mg和炔雌醇0.035mg"},"浙江仙琚制药股份有限公司",14465,11307,23636,382,18847,17444,4935,16324,33969,3264,50423,63204,8074,3410,10290]
[115,"XG03EBQ136A001010181787","炔雌醇环丙孕酮片",{"$f":"VLOOKUP(B118,[1]Sheet2!$D:$G,4,0)","v":"每片含醋酸环丙孕酮2mg和炔雌醇0.035mg"},"Bayer Weimar GmbH und Co. KG",0,1470,0,0,0,0,0,1470,0,5292,588,0,0,0,0]
[116,"XG03EBQ136A001010181787","炔雌醇环丙孕酮片",{"$f":"VLOOKUP(B119,[1]Sheet2!$D:$G,4,0)","v":"每片含醋酸环丙孕酮2mg和炔雌醇0.035mg"},"拜耳医药保健有限公司",110090,95298,15041,33414,21671,0,16735,79140,37075,46562,40142,33070,48399,38428,20160]
[117,"XG03GAN052B001020204559","注射用尿促性素",{"$f":"VLOOKUP(B120,[1]Sheet2!$D:$G,4,0)","v":"75IU"},"宁波人健药业集团股份有限公司",0,0,0,0,0,0,0,0,0,0,2016,0,0,0,0]
[118,"XG03GAN052B001030100453","注射用尿促性素",{"$f":"VLOOKUP(B121,[1]Sheet2!$D:$G,4,0)","v":"以卵泡刺激素效价计75单位"},"丽珠集团丽珠制药厂",16236,630,5656,16776,7320,406,1346,2773,3540,7761,8770,905,723,3018,281]
[119,"XG03GAN052B001030204287","注射用尿促性素",{"$f":"VLOOKUP(B122,[1]Sheet2!$D:$G,4,0)","v":"75单位(以卵泡刺激素效价计)"},"马鞍山丰原制药有限公司",0,0,14,0,0,18,0,0,18,0,0,105,1784,0,0]
[120,"XG03GAN052B014010204233","注射用尿促性素",{"$f":"VLOOKUP(B123,[1]Sheet2!$D:$G,4,0)","v":"75单位(以卵泡刺激素效价计)"},"烟台东诚北方制药有限公司",3101,12018,0,0,16,18,0,0,23,7,0,105,1588,0,650]
[121,"XV08AAF011B002020102499","泛影葡胺注射液",{"$f":"VLOOKUP(B124,[1]Sheet2!$D:$G,4,0)","v":"20ml:12g"},"西安汉丰药业有限责任公司",0,0,357,657,0,0,0,0,0,448,105,0,0,0,0]
[122,"XV08ABD101B002070278485","碘比醇注射液",{"$f":"VLOOKUP(B125,[1]Sheet2!$D:$G,4,0)","v":"100ml:35g(I)"},"加栢药业（温州）有限公司",4452,4620,4449,0,538,0,0,0,0,0,0,0,0,0,0]
[123,"XV08ABD114B002010109568","碘美普尔注射液",{"$f":"VLOOKUP(B126,[1]Sheet2!$D:$G,4,0)","v":"100ml:40g(I)"},"重庆圣华曦药业股份有限公司",1,0,0,0,0,0,0,0,3,0,0,0,0,0,0]
[124,"XV08ABD114B002010178307","碘美普尔注射液",{"$f":"VLOOKUP(B127,[1]Sheet2!$D:$G,4,0)","v":"100ml:30g(Ⅰ)"},"Patheon Italia S.p.A.",21192,8728,0,0,2258,0,0,0,1992,627,834,0,3500,0,0]
[125,"XV08ABD114B002010185240","碘美普尔注射液",{"$f":"VLOOKUP(B128,[1]Sheet2!$D:$G,4,0)","v":"100ml:40g(Ⅰ)"},"成都克莱蒙医药科技有限公司",72,0,0,0,0,0,0,0,0,0,280,0,0,0,0]
[126,"XV08ABD114B002010185240","碘美普尔注射液",{"$f":"VLOOKUP(B129,[1]Sheet2!$D:$G,4,0)","v":"100ml:40g(Ⅰ)"},"四川科伦药业股份有限公司",6,0,0,0,0,0,0,0,11,0,1120,0,0,0,0]
[127,"XV08ABD114B002010200621","碘美普尔注射液",{"$f":"VLOOKUP(B130,[1]Sheet2!$D:$G,4,0)","v":"100ml:40g(I)"},"上海司太立制药有限公司",2318,0,0,0,0,0,0,0,0,0,0,0,0,0,0]
[128,"XV08ABD114B002020100639","碘美普尔注射液",{"$f":"VLOOKUP(B131,[1]Sheet2!$D:$G,4,0)","v":"100ml:35g(Ⅰ)"},"Patheon Italia S.p.A.",1142,0,0,0,0,0,0,0,0,0,0,0,0,0,0]
[129,"XV08ABD114B002020100639","碘美普尔注射液",{"$f":"VLOOKUP(B132,[1]Sheet2!$D:$G,4,0)","v":"100ml:35g(Ⅰ)"},"上海博莱科信谊药业有限责任公司",286,0,0,0,0,0,0,0,0,0,0,0,0,0,0]
[130,"XV08ABD114B002030100639","碘美普尔注射液",{"$f":"VLOOKUP(B133,[1]Sheet2!$D:$G,4,0)","v":"100ml:40g(Ⅰ)"},"Patheon Italia S.p.A.",5247,0,0,0,0,0,28,0,0,0,0,0,0,0,0]
[131,"XV08ABD114B002030100639","碘美普尔注射液",{"$f":"VLOOKUP(B134,[1]Sheet2!$D:$G,4,0)","v":"100ml:40g(Ⅰ)"},"上海博莱科信谊药业有限责任公司",21707,175,0,0,0,0,7,0,0,0,0,0,0,0,0]
[132,"XV08BAL144X006010104159","硫酸钡(Ⅱ型)干混悬剂",{"$f":"VLOOKUP(B135,[1]Sheet2!$D:$G,4,0)","v":"210g/袋*100%(W/V)"},"山东胜利药业有限公司",2351,356,206,69,563,20,155,529,403,320,426,194,221,172,83]
[133,"XV08BAL144X006010280446","硫酸钡(Ⅱ型)干混悬剂",{"$f":"VLOOKUP(B136,[1]Sheet2!$D:$G,4,0)","v":"200g"},"青岛红蝶新材料有限公司",0,0,0,0,0,0,0,17,7,0,0,0,0,0,0]
[134,"XV08BAL144X006020280446","硫酸钡(Ⅱ型)干混悬剂",{"$f":"VLOOKUP(B137,[1]Sheet2!$D:$G,4,0)","v":"300g"},"青岛红蝶新材料有限公司",1645,248,144,48,393,14,108,359,277,223,298,135,154,120,58]
[135,"XV08CAG001B002010100014","钆贝葡胺注射液",{"$f":"VLOOKUP(B138,[1]Sheet2!$D:$G,4,0)","v":"10ml:5.290g钆贝葡胺(相当于钆贝酸3.340g,葡甲胺1.950g)"},"北京北陆药业股份有限公司",0,0,0,0,0,0,0,0,0,0,0,8,0,0,0]
[136,"XV08CAG001B002010100639","钆贝葡胺注射液",{"$f":"VLOOKUP(B139,[1]Sheet2!$D:$G,4,0)","v":"10ml:5.290g钆贝葡胺(相当于钆贝酸3.340g、葡甲胺1.950g)"},"上海博莱科信谊药业有限责任公司",3200,0,0,0,0,0,0,0,605,0,0,0,0,0,0]
[137,"XV08CAG001B002020100639","钆贝葡胺注射液",{"$f":"VLOOKUP(B140,[1]Sheet2!$D:$G,4,0)","v":"15ml:7.935g钆贝葡胺(相当于钆贝酸5.010g、葡甲胺2.925g)"},"上海博莱科信谊药业有限责任公司",745,416,0,0,0,0,0,0,0,0,0,0,0,0,0]
[138,"XV08CAG002B002010100400","钆喷酸葡胺注射液",{"$f":"VLOOKUP(B141,[1]Sheet2!$D:$G,4,0)","v":"10ml:4.69g(按C₁₄H₂₀GdN₃O₁₀∙2C₇H₁₇NO₅计)"},"广州康臣药业有限公司",0,0,0,0,0,0,0,0,0,0,0,1081,0,0,0]
[139,"XV08CAG002B002010104188","钆喷酸葡胺注射液",{"$f":"VLOOKUP(B142,[1]Sheet2!$D:$G,4,0)","v":"按钆喷酸双葡甲胺(C₁₄H₂₀GdN₃O₁₀•2C₇H₁₇NO₅)计,20ml:9.38g"},"山东新时代药业有限公司",0,0,0,0,0,0,0,35,0,0,0,0,0,0,0]
[140,"XV08CAG002B002010109556","钆喷酸葡胺注射液",{"$f":"VLOOKUP(B143,[1]Sheet2!$D:$G,4,0)","v":"15ml:7.04g(按C14H20GdN3O10·2C7H17NO5计)"},"四川国瑞药业有限责任公司",0,913,886,0,920,112,0,321,260,168,889,235,255,0,56]
[141,"XV08CAG002B002010178271","钆喷酸葡胺注射液",{"$f":"VLOOKUP(B144,[1]Sheet2!$D:$G,4,0)","v":"10ml:4.690g"},"拜耳医药保健有限公司",0,0,0,0,0,0,0,0,0,0,81,0,0,0,0]
[142,"XV08CAG002B002020100014","钆喷酸葡胺注射液",{"$f":"VLOOKUP(B145,[1]Sheet2!$D:$G,4,0)","v":"12ml:5.63g"},"北京北陆药业股份有限公司",0,0,0,0,0,50,0,0,14,0,0,0,0,0,0]
[143,"XV08CAG002B002020100400","钆喷酸葡胺注射液",{"$f":"VLOOKUP(B146,[1]Sheet2!$D:$G,4,0)","v":"12ml:5.63g(按C₁₄H₂₀GdN₃O₁₀∙2C₇H₁₇NO₅计)"},"广州康臣药业有限公司",778,4815,219,2912,13471,74,0,1022,147,1326,0,3708,848,1107,2301]
[144,"XV08CAG002B002020104188","钆喷酸葡胺注射液",{"$f":"VLOOKUP(B147,[1]Sheet2!$D:$G,4,0)","v":"按钆喷酸双葡甲胺(C₁₄H₂₀GdN₃O₁₀•2C₇H₁₇NO₅)计,15ml:7.04g"},"山东新时代药业有限公司",0,0,0,0,0,0,0,137,0,0,35,0,18,0,0]
[145,"XV08CAG002B002020178271","钆喷酸葡胺注射液",{"$f":"VLOOKUP(B148,[1]Sheet2!$D:$G,4,0)","v":"15ml:7.035g"},"拜耳医药保健有限公司",3440,777,0,527,0,0,0,0,2675,0,251,0,0,0,0]
[146,"XV08CAG002B002030100014","钆喷酸葡胺注射液",{"$f":"VLOOKUP(B149,[1]Sheet2!$D:$G,4,0)","v":"15ml:7.04g(按C14H20GdN3O10·2C7H17NO5计)"},"北京北陆药业股份有限公司",8713,5185,5279,749,3606,90,3592,1277,3232,683,3313,2575,1457,1232,625]
[147,"XV08CAG002B002030100400","钆喷酸葡胺注射液",{"$f":"VLOOKUP(B150,[1]Sheet2!$D:$G,4,0)","v":"15ml:7.04g(按C₁₄H₂₀GdN₃O₁₀∙2C₇H₁₇NO₅计)"},"广州康臣药业有限公司",0,0,0,0,0,0,0,0,0,2368,80,35,249,0,371]
[148,"XV08CAG002B002030178271","钆喷酸葡胺注射液",{"$f":"VLOOKUP(B151,[1]Sheet2!$D:$G,4,0)","v":"20ml:9.380g"},"拜耳医药保健有限公司",0,0,0,0,0,0,0,0,0,35,0,0,17,0,0]
[149,"XV08CAG002B002040100014","钆喷酸葡胺注射液",{"$f":"VLOOKUP(B152,[1]Sheet2!$D:$G,4,0)","v":"20ml:9.38g(按C14H20GdN3O10·2C7H17NO5计)"},"北京北陆药业股份有限公司",0,3586,94,0,259,0,8,56,203,1778,42,337,84,113,0]
[150,"XV08CAG002B002040100400","钆喷酸葡胺注射液",{"$f":"VLOOKUP(B153,[1]Sheet2!$D:$G,4,0)","v":"20ml:9.38g(按C₁₄H₂₀GdN₃O₁₀∙2C₇H₁₇NO₅计)"},"广州康臣药业有限公司",22811,739,0,39,1312,1873,3500,7246,1277,298,2103,77,2241,688,0]
[151,"XV08CAG153B002010101523","钆塞酸二钠注射液",{"$f":"VLOOKUP(B154,[1]Sheet2!$D:$G,4,0)","v":"10ml:1.8143g"},"正大天晴药业集团股份有限公司",233,130,0,10,115,17,0,662,56,62,67,0,14,0,0]
[152,"XV08CAG153B002010104948","钆塞酸二钠注射液",{"$f":"VLOOKUP(B155,[1]Sheet2!$D:$G,4,0)","v":"10ml:1814.3mg(以钆塞酸二钠计)"},"湖南科伦制药有限公司",1184,0,7,0,14,0,0,2,14,4,0,0,17,0,0]
[153,"XV08CAG153B002010278271","钆塞酸二钠注射液",{"$f":"VLOOKUP(B156,[1]Sheet2!$D:$G,4,0)","v":"10ml预装玻璃注射器,每1ml中含钆塞酸二钠181.43mg"},"Bayer AG",1195,0,0,0,0,0,0,0,0,4,0,0,0,0,0]
[154,"XV08CAG172B002020104948","钆特醇注射液",{"$f":"VLOOKUP(B157,[1]Sheet2!$D:$G,4,0)","v":"15ml:4.1895g"},"湖南科伦制药有限公司",0,0,0,0,0,0,0,0,38,0,0,0,0,0,0]
[155,"XV08CAG172B002020178307","钆特醇注射液",{"$f":"VLOOKUP(B158,[1]Sheet2!$D:$G,4,0)","v":"15ml:4.1895g"},"BIPSO GmbH",0,0,0,0,0,0,0,0,152,0,0,0,0,0,0]